Workbook
Name DropTable1: Cities!$C$3:$C$343

Sheet Instructions
A1: =CONCATENATE("Version: ",'Complete This Page'!J1) -> Version: NPAC v2018.0
C2: Regional Income Tax Agency
C3: Net Profits
C4: Auto-Calculating Form 27
B6: Disclaimer
B7: This worksheet is intended as an aid for tax preparation. The form will be useful in many situations but it does not apply to all possible filing scenarios. Form restrictions are listed below. Please scroll down and review them.
B9: Under no circumstance does the use of this worksheet exempt the return from RITA audit processes nor does this form excuse any penalties and interest that may result from the underpayment of the actual taxes due.
B11: Who May Use This Form
B12: RITA Form 27 is used by corporations (including S corporations), estates, limited liability companies, partnerships, and trusts to report net profit (or loss) and to pay the tax due as a result of profits earned while conducting business in one or more RITA municipalities. Form restrictions are listed below. Please scroll down and review them.
A14: òContinueò | B14: Rounding Off to Whole Dollars
B15: When using the auto-calc all amounts must be rounded. To round, drop amounts under 50 cents and increase amounts 50 cents or greater to the next dollar.
B17: Restrictions
B18: Do not use this worksheet if any of the following apply as the auto-calc will produce incorrect results.
B19: ● | C19: The business is a disregarded entity filing for federal purposes on Schedule C or E (Form 1040).
A20: òContinueò | B20: ● | C20: The business is a regulated investment company.
B21: ● | C21: The business needs to allocate income to more than five RITA municipalities.
B22: ● | C22: The federal return reports income or loss from a like-kind exchange.
B23: ● | C23: The federal return reports income or loss from an installment sale.
B24: ● | C24: The federal return reports flow-through capital gains and/or losses from a partnership.
B25: ● | C25: The business is a partnership with more than five (5) partners.
A26: òContinueò | B26: ● | C26: The business is a non-C corporation that paid a single employee in excess of $1 million in compensation.
B27: ● | C27: The federal return reports a capital loss carryback.
B28: ● | C28: The business is claiming a municipal net operating loss generated more than five (5) tax years ago.
B29: ● | C29: The business is using an alternate method for allocating income.
B30: ● | C30: The business is a non-C corporation that could claim a deduction for charitable contributions and one or more of the following apply:
A31: òContinueò | C31: Ø The business claimed a IRC 249 deduction related to the cost of borrowing to repurchase bonds it issued.
C32: Ø If the business was a C corporation, it would have claimed a domestic production activities deduction.
B34: Do not use this worksheet if any of the following apply as the auto-calc may produce incorrect results.
B35: ● | C35: The business is filing a consolidated return. This worksheet was not designed to support consolidated returns.
A36: òContinueò | B36: ● | C36: The business is filing a return for a tax year beginning prior to January 1, 2004.
B37: ● | C37: The business is filing a return for a tax year beginning after December 31, 2018.
B38: ● | C38: The business is reporting a profit to a municipality whose rate changed during the business's tax year.
B39: ● | C39: The business is filing a short-year return.
B40: ● | C40: The business is a partnership that has made a section 754 election.
B42: How to Use This Form
B43: Preparers should enter information in the blue boxes on the "Complete This Page" tab and, if applicable, the "Form 8903" tab. When finished, print the "Print Return" worksheet, the "Print Schedules" worksheet, and if applicable, the "Form 8903" worksheet. Review the return for accuracy, have the taxpayer sign the return, and then mail the return, schedules, and a copy of the taxpayer's federal return to the address shown on page 4 of the Form 27. If payment is due, make the check or money order payable to RITA and include it with the return.
B45: The tab labeled "Form 8903" has been provided for taxpayers that are not C corporations that are claiming an domestic production activities deduction (DPAD) on Schedule X.
B47: Instructions for Form 27 and the answers to frequently asked questions regarding the net profits tax are available on-line at www.ritaohio.com.
B52: End of Instructions

Sheet Complete This Page
J1: NPAC v2018.0
B2: Company | G2: Federal EIN
B4: Street # | C4: Street Name | E4: Suite # | G4: Business Activity Code
B6: City | D6: State | E6: Zip | G6: Business Activity Description
B9: Business Type for Federal Filing Purposes | G9: Calendar | H9: Or Fiscal Tax Year
G10: Tax Year | H10: Beginning | J10: Ending
G11: 2018
G12: =IF(AND(G11="",H11=""),"You must enter a tax year.",IF((J11-H11)>372,"Fiscal year greater than 12 months.",""))
G13: =IF(G12="You must enter a tax year.","",IF(ISNA(F42),"Tax Year Not Supported",IF(OR(F42="Year not supported",F42="Needs Update",Cities!D1>2018),"Tax Year Not Supported","")))
B14: =Data!B20 -> No federal filing Business Type selected.
B15: Municipalities (You must choose at least one) | E15: Warnings: | I15: Credit Carryover
E16: =IF(Data!F262<>"",Data!F262,Data!E33) | L16: ='Tax Rate Calc'!$N7
E17: =IF(Data!F263<>"",Data!F263,Data!E34) | L17: ='Tax Rate Calc'!$N8
E18: =IF(Data!F264<>"",Data!F264,Data!E35) | I18: Estimated Tax Pymts | L18: ='Tax Rate Calc'!$N9
E19: =IF(Data!F265<>"",Data!F265,Data!E36) | L19: ='Tax Rate Calc'!$N10
E20: =IF(Data!F266<>"",Data!F266,Data!E37) | I20: =IF(Data!B22=TRUE,"Include pymts made with original return","") | L20: ='Tax Rate Calc'!$N11
B21: =IF(AND(Data!B49=TRUE,Data!A40=0),Data!E46,"")
B22: General Questions
B23: Please check the appropriate boxes and indicate the taxpayer's phone number:
G26: Taxpayer's Phone:
C29: Check this box if your federal return claimed a deduction for salaries and wages.
C31: Check this box if you are a small employer [total receipts, gains, intangible income, reimbursements, etc. < $500,000].
C32: =IF(Data!A47="","Skip this question.",Data!E45) -> Skip this question.
C34: Check if Paid Preparer | F34: Firm Name:
C35: (leave preparer info blank if not using a paid preparer) | F35: Address:
C36: Preparer's Phone Number:
B40: Municipal Income Tax Computation Worksheet
B41: Part I | C41: Information From Federal Return: All Taxpayers
B42: Income before net operating losses & special deductions | F42: =References!C258 -> No guidance available | H42: 1
B43: Interest income | F43: =References!C260 -> No guidance available | H43: =+H42+1 -> 2
B44: Dividend income | F44: =References!C261 -> No guidance available | H44: =+H43+1 -> 3
B45: Royalty income on intangible property | F45: =References!C262 -> No guidance available | H45: =+H44+1 -> 4
B46: Ordinary income/(losses) from pass-thru entities | F46: =References!C263 -> No guidance available | H46: =+H45+1 -> 5
B47: Taxes on or measured by net income | F47: =References!C270 -> No guidance available | H47: =+H46+1 -> 6
B48: Net short-term capital gain (loss) (attach Sched D) | F48: =References!C279 -> No guidance available | H48: =+H47+1 -> 7
B49: Net long-term capital gain (loss) (attach Sched D) | F49: =References!C280 -> No guidance available | H49: =+H48+1 -> 8
B50: Net section 1231 gain (loss) (attach Form 4797) | F50: =References!C281 -> No guidance available | H50: =+H49+1 -> 9
B51: =IF(AND(OR(I48<0,I49<0,I50<0),Data!F9=TRUE),"Caution: Only report the amount of Schedule D and Form 4797, Ln 7 losses that were included in calculating Form 1120, Pg 1, Ln 28.","")
B52: Part II | C52: Taxpayers Not Filing as C-Corporations | F52: =IF(AND(Data!F9=TRUE,Data!B17=1),"Skip:","") | G52: =IF(F52="Skip:","Taxpayer is filing as a C-Corporation","")
B53: Section 179 expense deduction (current year) | F53: =References!C282 -> No guidance available | H53: =+H50+1 -> 10
...

Sheet Print Return
K1: Contact us toll free at:
A2: Form 27 | K2: Cleveland | M2: 800.860.7482
D3: Regional Income Tax Agency | K3: Columbus | M3: 866.721.7482
K4: Youngstown | M4: 866.750.7482
D5: RITA Net Profits Tax Return | K5: TDD | M5: 440.526.5332
I6: =+'Complete This Page'!J1 -> NPAC v2018.0 | K6: Fax | M6: 440.922.3536
A8: FOR CALENDAR YEAR | E8: =IF('Complete This Page'!G11<>0,'Complete This Page'!G11,"") -> 2018 | F8: OR FISCAL YEAR BEGINNING | I8: =IF('Complete This Page'!H11<>"",'Complete This Page'!H11,"") | K8: AND ENDING | M8: =IF('Complete This Page'!J11<>"",'Complete This Page'!J11,"")
A9: The federal return MUST be attached to be considered a complete tax return. Please also attach all applicable schedules and 1099-MISC to avoid delays.
A11: Check if: | J11: =IF(Data!B168=TRUE,Data!C168,"")
J13: =IF(Data!B166=TRUE,Data!C166,"")
A16: BUSINESS TYPE: | I16: Federal Business Activity Code #: | M16: =IF('Complete This Page'!G5<>"",'Complete This Page'!G5,"")
I17: Business Activity: | K17: =IF('Complete This Page'!G7<>"",'Complete This Page'!G7,"")
A21: Company Name | I21: Federal Idenification Number
A22: =IF('Complete This Page'!B3<>"",'Complete This Page'!B3,"Error: No Company Name Entered") -> Error: No Company Name Entered | I22: =IF('Complete This Page'!G3<>"",'Complete This Page'!G3,"Error: No EIN Entered") -> Error: No EIN Entered
A23: Address # | D23: Street Name | I23: Suite No.
A24: =IF('Complete This Page'!B5<>"",'Complete This Page'!B5,"") | D24: =IF('Complete This Page'!C5<>"",'Complete This Page'!C5,"Error: No Street Name Entered") -> Error: No Street Name Entered | I24: =IF('Complete This Page'!E5<>"",CONCATENATE("Ste ",'Complete This Page'!E5),"")
A25: City | I25: State | J25: Zip Code
A26: =IF('Complete This Page'!B7<>"",'Complete This Page'!B7,"Error: No City Name Entered") -> Error: No City Name Entered | I26: =IF('Complete This Page'!D7<>"",'Complete This Page'!D7,"") | J26: =IF('Complete This Page'!E7<>"",'Complete This Page'!E7,"")
A29: 1 | B29: INCOME PER ATTACHED FEDERAL RETURN | K29: =+A29 -> 1 | L29: =+L185 -> 0
B30: =CONCATENATE("(per attached ",References!C258,")") -> (per attached No guidance available)
A31: 2 | B31: A. | C31: ITEMS NOT DEDUCTIBLE (From Page 3, Schedule X, Line G) | J31: Add 2A | L31: =L153 -> 0
B33: B. | C33: ITEMS NOT TAXABLE (From Page 3, Schedule X, Line Q) | I33: Deduct 2B | L33: =L168 -> 0
B35: C. | C35: ENTER EXCESS OF LINE 2A or 2B | K35: 2C | L35: =IF(L31>L33,L31-L33,L33-L31) -> 0
A37: 3 | B37: A. | C37: ADJUSTED FEDERAL TAXABLE INCOME | K37: 3A | L37: =+L29+L31-L33 -> 0
C38: (Line 1 plus or minus line 2C) if Schedule X is used
B39: B | C39: PRE-APPORTIONED LOSSES FOR TAX YEARS BEGINNING ON OR AFTER 1/1/17
C40: (subject to 50%). Check this box if utilizing a NOL prior to 1/1/17 first. See instructions | J40: u | O40: =Data!D33 -> FALSE
C41: i. | D41: TOTAL UNUTILIZED PRE-APPORTIONED LOSSES | J41: u | K41: 3B(i) | L41: =IF(ISNUMBER('Complete This Page'!J108),'Complete This Page'!J108,0) -> 0 | O41: =OR(Data!D33:D37,Overflow!P60:P110,'Overflow (2)'!P66:P110,'Overflow (3)'!P66:P110) -> FALSE
D42: FROM TAX YEARS BEGINNING ON OR AFTER 1/1/17
C43: ii. | D43: PRE-APPORTIONED LOSSES | J43: u | K43: 3B(ii) | L43: =IF(ISNUMBER('Complete This Page'!K108),'Complete This Page'!K108,'Complete This Page'!K110) -> 0
D44: FROM TAX YEARS BEGINNING ON OR AFTER 1/1/17 UTILIZED IN | H44: =IF('Complete This Page'!G11 > 2017,'Complete This Page'!G11,"") -> 2018
C45: iii. | D45: INCOME/LOSS SUBJECT TO APPORTIONMENT | J45: u | K45: 3B(iii) | L45: =IF(Data!D33=FALSE,L37-L43,'Print NOL Worksheet'!K24) -> 0
B47: C. | C47: AMOUNT ALLOCABLE TO RITA | K47: 3C | L47: =IF(ISNUMBER(F48)=TRUE,F48*IF(Data!D33=TRUE,L37,L45),L37) -> 0
C48: If Schedule Y, Page 4 is used | F48: =IF(Data!B49=TRUE,1,IF(ISNUMBER(Data!C279)=TRUE,Data!C279,"")) -> 0 | G48: =IF(Data!D33=FALSE,"of Line 3B(iii)","of Line 3A") -> of Line 3B(iii) | L48: =IF(Overflow!D66>0,"",IF(Data!B49=TRUE,"",Data!C60))
B49: D. | C49: POST APPORTIONED LOSSES FOR TYs BEGINNING BEFORE 1/1/17 | J49: u | K49: 3D | L49: =Data!E279 -> 0
C50: Per Previous municipal Income Tax Returns (schedule must be submitted). See instructions
A51: 4 | B51: AMOUNT SUBJECT TO MUNICIPAL INCOME TAX | J51: u | K51: 4 | L51: =IF(O40=TRUE,Data!K279,Data!T279) -> 0
B52: (Calculated)
A53: 5 | B53: MUNICIPAL TAX DUE (See Instructions) | J53: u | K53: 5 | L53: =SUM(L79:N87) -> 0
B54: NOTE: Must complete Schedule B on Page 2
...

Sheet Print Schedules
A1: Attachment to Form | C1: 27 | D1: Supporting Schedules | K1: =IF('Complete This Page'!G11="",YEAR('Complete This Page'!H11),'Complete This Page'!G11) -> 2018
A2: Regional Income Tax Agency | K2: =+'Complete This Page'!J1 -> NPAC v2018.0
A3: Name shown on return | J3: Identifying Number
B4: =+'Complete This Page'!B3 -> 0 | J4: ='Complete This Page'!G3 -> 0
A6: Part I | C6: Municipal Net Operating Loss Carryovers
A8: =+'Complete This Page'!B96
A10: Municipal NOLs | D10: Year Unused NOL Generated | L10: Available
A11: Beginning of Year | D11: =+'Complete This Page'!D98 -> 2013 | E11: =+'Complete This Page'!E98 -> 2014 | F11: =+'Complete This Page'!F98 -> 2015 | G11: =+'Complete This Page'!G98 -> 2016 | I11: =+'Complete This Page'!H98 -> 2017 | J11: Current
A12: =+'Complete This Page'!B99 | D12: =IF('Complete This Page'!D99="",0,'Complete This Page'!D99) -> 0 | E12: =IF('Complete This Page'!E99="",0,'Complete This Page'!E99) -> 0 | F12: =IF('Complete This Page'!F99="",0,'Complete This Page'!F99) -> 0 | G12: =IF('Complete This Page'!G99="",0,'Complete This Page'!G99) -> 0 | I12: =IF('Complete This Page'!H99="",0,'Complete This Page'!H99) -> 0 | J12: =0 -> 0 | L12: =IF(Data!C33=0,0,IF(Data!C33=3,SUM(F12:K12),IF(Data!C33=1,I12,SUM(D12:K12)))) -> 0
A13: =+'Complete This Page'!B100 | D13: =IF('Complete This Page'!D100="",0,'Complete This Page'!D100) -> 0 | E13: =IF('Complete This Page'!E100="",0,'Complete This Page'!E100) -> 0 | F13: =IF('Complete This Page'!F100="",0,'Complete This Page'!F100) -> 0 | G13: =IF('Complete This Page'!G100="",0,'Complete This Page'!G100) -> 0 | I13: =IF('Complete This Page'!H100="",0,'Complete This Page'!H100) -> 0 | J13: =0 -> 0 | L13: =IF(Data!C34=0,0,IF(Data!C34=3,SUM(F13:K13),IF(Data!C34=1,I13,SUM(D13:K13)))) -> 0
A14: =+'Complete This Page'!B101 | D14: =IF('Complete This Page'!D101="",0,'Complete This Page'!D101) -> 0 | E14: =IF('Complete This Page'!E101="",0,'Complete This Page'!E101) -> 0 | F14: =IF('Complete This Page'!F101="",0,'Complete This Page'!F101) -> 0 | G14: =IF('Complete This Page'!G101="",0,'Complete This Page'!G101) -> 0 | I14: =IF('Complete This Page'!H101="",0,'Complete This Page'!H101) -> 0 | J14: =0 -> 0 | L14: =IF(Data!C35=0,0,IF(Data!C35=3,SUM(F14:K14),IF(Data!C35=1,I14,SUM(D14:K14)))) -> 0
A15: =+'Complete This Page'!B102 | D15: =IF('Complete This Page'!D102="",0,'Complete This Page'!D102) -> 0 | E15: =IF('Complete This Page'!E102="",0,'Complete This Page'!E102) -> 0 | F15: =IF('Complete This Page'!F102="",0,'Complete This Page'!F102) -> 0 | G15: =IF('Complete This Page'!G102="",0,'Complete This Page'!G102) -> 0 | I15: =IF('Complete This Page'!H102="",0,'Complete This Page'!H102) -> 0 | J15: =0 -> 0 | L15: =IF(Data!C36=0,0,IF(Data!C36=3,SUM(F15:K15),IF(Data!C36=1,I15,SUM(D15:K15)))) -> 0
A16: =+'Complete This Page'!B103 | D16: =IF('Complete This Page'!D103="",0,'Complete This Page'!D103) -> 0 | E16: =IF('Complete This Page'!E103="",0,'Complete This Page'!E103) -> 0 | F16: =IF('Complete This Page'!F103="",0,'Complete This Page'!F103) -> 0 | G16: =IF('Complete This Page'!G103="",0,'Complete This Page'!G103) -> 0 | I16: =IF('Complete This Page'!H103="",0,'Complete This Page'!H103) -> 0 | J16: =0 -> 0 | L16: =IF(Data!C37=0,0,IF(Data!C37=3,SUM(F16:K16),IF(Data!C37=1,I16,SUM(D16:K16)))) -> 0
A17: Pre-apportioned NOL | D17: =IF('Complete This Page'!D108="",0,'Complete This Page'!D108) -> 0 | E17: =IF('Complete This Page'!E108="",0,'Complete This Page'!E108) -> 0 | F17: =IF('Complete This Page'!F108="",0,'Complete This Page'!F108) -> 0 | G17: =IF('Complete This Page'!G108="",0,'Complete This Page'!G108) -> 0 | I17: =IF('Complete This Page'!H108="",0,'Complete This Page'!H108) -> 0 | L17: ='Complete This Page'!J108 -> 0
A19: =CONCATENATE("Municipal Net Operating Losses Used in Tax Year ",K1) -> Municipal Net Operating Losses Used in Tax Year 2018 | E19: =+A12 | F19: =+A13 | G19: =+A14 | I19: =+A15 | J19: =+A16 | L19: Total
A20: Post-apportioned NOL applied | E20: =+Data!E273 -> 0 | F20: =+Data!E274 -> 0 | G20: =+Data!E275 -> 0 | I20: =+Data!E276 -> 0 | J20: =+Data!E277 -> 0 | L20: =SUM(E20:K20) -> 0
A21: =CONCATENATE("Pre-apportioned NOL used in ", K1) -> Pre-apportioned NOL used in 2018 | L21: ='Complete This Page'!K108 -> 0
A23: Municipal NOLs | D23: Year Unused NOL Generated | L23: Available
A24: End of Year | D24: =+D11 -> 2013 | E24: =+E11 -> 2014 | F24: =+F11 -> 2015 | G24: =+G11 -> 2016 | I24: =+I11 -> 2017 | J24: Current
A25: =+'Complete This Page'!B99 | D25: =IF($L25-SUM(E25:$K25)=0,0,IF(D12<$L25-SUM(E25:$K25),D12,$L25-SUM(E25:$K25))) -> 0 | E25: =IF($L25-SUM(F25:$K25)=0,0,IF(E12<$L25-SUM(F25:$K25),E12,$L25-SUM(F25:$K25))) -> 0 | F25: =IF($L25-SUM(G25:$K25)=0,0,IF(F12<$L25-SUM(G25:$K25),F12,$L25-SUM(G25:$K25))) -> 0 | G25: =IF($L25-SUM(I25:$K25)=0,0,IF(G12<$L25-SUM(I25:$K25),G12,$L25-SUM(I25:$K25))) -> 0 | H25: =IF($L25-SUM(I25:$K25)=0,0,IF(H12<$L25-SUM(I25:$K25),H12,$L25-SUM(I25:$K25))) -> 0 | I25: =IF($L25-SUM(J25:$K25)=0,0,IF(I12<$L25-SUM(J25:$K25),I12,$L25-SUM(J25:$K25))) -> 0 | J25: =IF(J12<L25,J12,L25) -> 0 | L25: =+L12-E20 -> 0
A26: =+'Complete This Page'!B100 | D26: =IF($L26-SUM(E26:$K26)=0,0,IF(D13<$L26-SUM(E26:$K26),D13,$L26-SUM(E26:$K26))) -> 0 | E26: =IF($L26-SUM(F26:$K26)=0,0,IF(E13<$L26-SUM(F26:$K26),E13,$L26-SUM(F26:$K26))) -> 0 | F26: =IF($L26-SUM(G26:$K26)=0,0,IF(F13<$L26-SUM(G26:$K26),F13,$L26-SUM(G26:$K26))) -> 0 | G26: =IF($L26-SUM(I26:$K26)=0,0,IF(G13<$L26-SUM(I26:$K26),G13,$L26-SUM(I26:$K26))) -> 0 | H26: =IF($L26-SUM(I26:$K26)=0,0,IF(H13<$L26-SUM(I26:$K26),H13,$L26-SUM(I26:$K26))) -> 0 | I26: =IF($L26-SUM(J26:$K26)=0,0,IF(I13<$L26-SUM(J26:$K26),I13,$L26-SUM(J26:$K26))) -> 0 | J26: =IF(J13<L26,J13,L26) -> 0 | L26: =+L13-F20 -> 0
A27: =+'Complete This Page'!B101 | D27: =IF($L27-SUM(E27:$K27)=0,0,IF(D14<$L27-SUM(E27:$K27),D14,$L27-SUM(E27:$K27))) -> 0 | E27: =IF($L27-SUM(F27:$K27)=0,0,IF(E14<$L27-SUM(F27:$K27),E14,$L27-SUM(F27:$K27))) -> 0 | F27: =IF($L27-SUM(G27:$K27)=0,0,IF(F14<$L27-SUM(G27:$K27),F14,$L27-SUM(G27:$K27))) -> 0 | G27: =IF($L27-SUM(I27:$K27)=0,0,IF(G14<$L27-SUM(I27:$K27),G14,$L27-SUM(I27:$K27))) -> 0 | H27: =IF($L27-SUM(I27:$K27)=0,0,IF(H14<$L27-SUM(I27:$K27),H14,$L27-SUM(I27:$K27))) -> 0 | I27: =IF($L27-SUM(J27:$K27)=0,0,IF(I14<$L27-SUM(J27:$K27),I14,$L27-SUM(J27:$K27))) -> 0 | J27: =IF(J14<L27,J14,L27) -> 0 | L27: =+L14-G20 -> 0
A28: =+'Complete This Page'!B102 | D28: =IF($L28-SUM(E28:$K28)=0,0,IF(D15<$L28-SUM(E28:$K28),D15,$L28-SUM(E28:$K28))) -> 0 | E28: =IF($L28-SUM(F28:$K28)=0,0,IF(E15<$L28-SUM(F28:$K28),E15,$L28-SUM(F28:$K28))) -> 0 | F28: =IF($L28-SUM(G28:$K28)=0,0,IF(F15<$L28-SUM(G28:$K28),F15,$L28-SUM(G28:$K28))) -> 0 | G28: =IF($L28-SUM(I28:$K28)=0,0,IF(G15<$L28-SUM(I28:$K28),G15,$L28-SUM(I28:$K28))) -> 0 | H28: =IF($L28-SUM(I28:$K28)=0,0,IF(H15<$L28-SUM(I28:$K28),H15,$L28-SUM(I28:$K28))) -> 0 | I28: =IF($L28-SUM(J28:$K28)=0,0,IF(I15<$L28-SUM(J28:$K28),I15,$L28-SUM(J28:$K28))) -> 0 | J28: =IF(J15<L28,J15,L28) -> 0 | L28: =+L15-I20 -> 0
A29: =+'Complete This Page'!B103 | D29: =IF($L29-SUM(E29:$K29)=0,0,IF(D16<$L29-SUM(E29:$K29),D16,$L29-SUM(E29:$K29))) -> 0 | E29: =IF($L29-SUM(F29:$K29)=0,0,IF(E16<$L29-SUM(F29:$K29),E16,$L29-SUM(F29:$K29))) -> 0 | F29: =IF($L29-SUM(G29:$K29)=0,0,IF(F16<$L29-SUM(G29:$K29),F16,$L29-SUM(G29:$K29))) -> 0 | G29: =IF($L29-SUM(I29:$K29)=0,0,IF(G16<$L29-SUM(I29:$K29),G16,$L29-SUM(I29:$K29))) -> 0 | H29: =IF($L29-SUM(I29:$K29)=0,0,IF(H16<$L29-SUM(I29:$K29),H16,$L29-SUM(I29:$K29))) -> 0 | I29: =IF($L29-SUM(J29:$K29)=0,0,IF(I16<$L29-SUM(J29:$K29),I16,$L29-SUM(J29:$K29))) -> 0 | J29: =IF(J16<L29,J16,L29) -> 0 | L29: =+L16-J20 -> 0
A30: Total Unused Post-apportioned NOL | L30: =SUM(L25:L29) -> 0
A31: Total Unused Pre-apportioned NOL | L31: =IF(L17-L21>0,L17-L21,0) -> 0
A33: Part II | C33: Federal Carryover Information | L33: =IF(Data!F9=TRUE,"C Corp","")
A35: For use by taxpayers that are not C corporations. C corporations should attach copies of their federal schedules for charitable contribution carryovers, captial loss carryovers, and unrecovered 1231 loss carryovers to their RITA returns.
A37: Federal Carryovers | D37: Year Carryover Generated | L37: Available
A38: Beginning of Year | D38: =+D11 -> 2013 | E38: =+E11 -> 2014 | F38: =+F11 -> 2015 | G38: =+G11 -> 2016 | I38: =+I11 -> 2017 | J38: Current
A39: =+'Fed Carryovers'!A7 -> Charitable Contributions | D39: =+'Fed Carryovers'!C7 -> 0 | E39: =+'Fed Carryovers'!D7 -> 0 | F39: =+'Fed Carryovers'!E7 -> 0 | G39: =+'Fed Carryovers'!F7 -> 0 | I39: =+'Fed Carryovers'!G7 -> 0 | J39: =+'Fed Carryovers'!H7 -> 0 | L39: =SUM(D39:K39) -> 0
A40: =+'Fed Carryovers'!A8 -> Capital Loss Carryovers | D40: =+'Fed Carryovers'!C8 -> 0 | E40: =+'Fed Carryovers'!D8 -> 0 | F40: =+'Fed Carryovers'!E8 -> 0 | G40: =+'Fed Carryovers'!F8 -> 0 | I40: =+'Fed Carryovers'!G8 -> 0 | J40: =+K69 -> 0 | L40: =SUM(D40:K40) -> 0
A41: =+'Fed Carryovers'!A9 -> Unrecovered §1231 Losses | D41: =+'Fed Carryovers'!C9 -> 0 | E41: =+'Fed Carryovers'!D9 -> 0 | F41: =+'Fed Carryovers'!E9 -> 0 | G41: =+'Fed Carryovers'!F9 -> 0 | I41: =+'Fed Carryovers'!G9 -> 0 | J41: =IF('Complete This Page'!I50<0,-'Complete This Page'!I50,0) -> 0 | L41: =SUM(D41:K41) -> 0
A42: =+'Fed Carryovers'!A10 -> Federal Net Operating Losses | D42: =+'Fed Carryovers'!C10 -> 0 | E42: =+'Fed Carryovers'!D10 -> 0 | F42: =+'Fed Carryovers'!E10 -> 0 | G42: =+'Fed Carryovers'!F10 -> 0 | I42: =+'Fed Carryovers'!G10 -> 0 | J42: =IF(K90<0,-K90,0) -> 0 | L42: =SUM(D42:K42) -> 0
A43: =+'Fed Carryovers'!A11 -> Section 179 | D43: =+'Fed Carryovers'!C11 -> 0 | E43: =+'Fed Carryovers'!D11 -> 0 | F43: =+'Fed Carryovers'!E11 -> 0 | G43: =+'Fed Carryovers'!F11 -> 0 | I43: =+'Fed Carryovers'!G11 -> 0 | J43: =+H71-K77 -> 0 | L43: =SUM(D43:K43) -> 0
A45: Federal Carryovers | D45: Year Carryover Generated | L45: Available
A46: End of Year | D46: =+D11 -> 2013 | E46: =+E11 -> 2014 | F46: =+F11 -> 2015 | G46: =+G11 -> 2016 | I46: =+I11 -> 2017 | J46: Current
A47: =+A39 -> Charitable Contributions | D47: =IF($L47-SUM(E47:$K47)=0,0,IF(D39<$L47-SUM(E47:$K47),D39,$L47-SUM(E47:$K47))) -> 0 | E47: =IF($L47-SUM(F47:$K47)=0,0,IF(E39<$L47-SUM(F47:$K47),E39,$L47-SUM(F47:$K47))) -> 0 | F47: =IF($L47-SUM(G47:$K47)=0,0,IF(F39<$L47-SUM(G47:$K47),F39,$L47-SUM(G47:$K47))) -> 0 | G47: =IF($L47-SUM(I47:$K47)=0,0,IF(G39<$L47-SUM(I47:$K47),G39,L47-SUM(I47:$K47))) -> 0 | I47: =IF($L47-SUM(J47:$K47)=0,0,IF(I39<$L47-SUM(J47:$K47),I39,L47-SUM(J47:$K47))) -> 0 | J47: =IF(J39<L47,J39,L47) -> 0 | L47: =+L39-K89 -> 0
A48: =+A40 -> Capital Loss Carryovers | D48: =IF($L48-SUM(E48:$K48)=0,0,IF(D40<$L48-SUM(E48:$K48),D40,$L48-SUM(E48:$K48))) -> 0 | E48: =IF($L48-SUM(F48:$K48)=0,0,IF(E40<$L48-SUM(F48:$K48),E40,$L48-SUM(F48:$K48))) -> 0 | F48: =IF($L48-SUM(G48:$K48)=0,0,IF(F40<$L48-SUM(G48:$K48),F40,$L48-SUM(G48:$K48))) -> 0 | G48: =IF($L48-SUM(I48:$K48)=0,0,IF(G40<$L48-SUM(I48:$K48),G40,L48-SUM(I48:$K48))) -> 0 | I48: =IF($L48-SUM(J48:$K48)=0,0,IF(I40<$L48-SUM(J48:$K48),I40,L48-SUM(J48:$K48))) -> 0 | J48: =IF(J40<L48,J40,L48) -> 0 | L48: =+L40-K106 -> 0
A49: =+A41 -> Unrecovered §1231 Losses | D49: =IF($L49-SUM(E49:$K49)=0,0,IF(D41<$L49-SUM(E49:$K49),D41,$L49-SUM(E49:$K49))) -> 0 | E49: =IF($L49-SUM(F49:$K49)=0,0,IF(E41<$L49-SUM(F49:$K49),E41,$L49-SUM(F49:$K49))) -> 0 | F49: =IF($L49-SUM(G49:$K49)=0,0,IF(F41<$L49-SUM(G49:$K49),F41,$L49-SUM(G49:$K49))) -> 0 | G49: =IF($L49-SUM(I49:$K49)=0,0,IF(G41<$L49-SUM(I49:$K49),G41,L49-SUM(I49:$K49))) -> 0 | I49: =IF($L49-SUM(J49:$K49)=0,0,IF(I41<$L49-SUM(J49:$K49),I41,L49-SUM(J49:$K49))) -> 0 | J49: =IF(J41<L49,J41,L49) -> 0 | L49: =+L41-H98 -> 0
...

Sheet Print NOL Worksheet
A3: NOTE: Municipal Carryover calculations below apply to post apportioned losses for TYs beginning prior to 1/1/17
A4: Municipal Carryover Information from Your Records
A5: =IF(Data!F44="","",CONCATENATE("Cities that prohibit NOL carryovers: ",Data!F44))
A6: Municipal | C6: Year Unused NOL Generated | I6: Yrs
A7: NOL Carryovers | C7: ='Complete This Page'!D98 -> 2013 | D7: ='Complete This Page'!E98 -> 2014 | E7: ='Complete This Page'!F98 -> 2015 | F7: ='Complete This Page'!G98 -> 2016 | G7: ='Complete This Page'!H98 -> 2017 | H7: Utilized
A8: ='Complete This Page'!B99 | C8: ='Complete This Page'!D99 -> 0 | D8: ='Complete This Page'!E99 -> 0 | E8: ='Complete This Page'!F99 -> 0 | F8: ='Complete This Page'!G99 -> 0 | G8: ='Complete This Page'!H99 -> 0 | H8: ='Complete This Page'!J99 -> 0 | I8: =+Data!C33 -> 0
A9: ='Complete This Page'!B100 | C9: ='Complete This Page'!D100 -> 0 | D9: ='Complete This Page'!E100 -> 0 | E9: ='Complete This Page'!F100 -> 0 | F9: ='Complete This Page'!G100 -> 0 | G9: ='Complete This Page'!H100 -> 0 | H9: ='Complete This Page'!J100 -> 0 | I9: =+Data!C34 -> 0
A10: ='Complete This Page'!B101 | C10: ='Complete This Page'!D101 -> 0 | D10: ='Complete This Page'!E101 -> 0 | E10: ='Complete This Page'!F101 -> 0 | F10: ='Complete This Page'!G101 -> 0 | G10: ='Complete This Page'!H101 -> 0 | H10: ='Complete This Page'!J101 -> 0 | I10: =+Data!C35 -> 0
A11: ='Complete This Page'!B102 | C11: ='Complete This Page'!D102 -> 0 | D11: ='Complete This Page'!E102 -> 0 | E11: ='Complete This Page'!F102 -> 0 | F11: ='Complete This Page'!G102 -> 0 | G11: ='Complete This Page'!H102 -> 0 | H11: ='Complete This Page'!J102 -> 0 | I11: =+Data!C36 -> 0
A12: ='Complete This Page'!B103 | C12: ='Complete This Page'!D103 -> 0 | D12: ='Complete This Page'!E103 -> 0 | E12: ='Complete This Page'!F103 -> 0 | F12: ='Complete This Page'!G103 -> 0 | G12: ='Complete This Page'!H103 -> 0 | H12: ='Complete This Page'!J103 -> 0 | I12: =+Data!C37 -> 0
A13: Pre-apportioned NOL | C13: ='Complete This Page'!D108 -> 0 | D13: ='Complete This Page'!E108 -> 0 | E13: ='Complete This Page'!F108 -> 0 | F13: ='Complete This Page'!G108 -> 0 | G13: ='Complete This Page'!H108 -> 0 | H13: ='Complete This Page'!K108 -> 0
A14: ='Complete This Page'!B109 -> The maximum amount of NOL $0 was automatically applied. If you wish to enter a smaller NOL value, please type it in the cell K108 to overwrite.
A16: =IF(Data!D33=TRUE,"Local Tax Calc Worksheet","Local Tax Calc Worksheet is applicable if ""Utilizing NOL incurred prior to 1/1/17 first"" is checked") -> Local Tax Calc Worksheet is applicable if "Utilizing NOL incurred prior to 1/1/17 first" is checked
A17: City Name | B17: 1) AFTI (Form 27, Line 3A) | C17: 2) AFTI Allocation % (From Schedule Y, Part II, Column J) | D17: 3) Col 1 Multiplied by Col 2 | E17: 4) Post Apportioned Loss Utilized (from table above) | F17: 5) Col 3 minus Col 4 | G17: 6) Divide Col 5 by Col 2 | H17: 7) Pre-apportioned NOL from Form 27, Line 3B(i) | I17: 8) 50% of the lesser of Col 6 and Col 7 NOTE: Do not enter amounts from a RITA Municipality on the NOL-Phase-In exceptions list | J17: 9) Col 6 minus Col 8 (cannot be less then 0). If Row 8 is blank, enter the difference of Row 6 less Row 7 | K17: 10) Col 9 multiplied by Col 2 | L17: 11) Municipal Tax Rate | M17: 12) Col 10 multiplied by Col 11 (if $10 or less enter 0 on Sched B)
A18: =Data!A273 -> 0 | B18: ='Print Return'!L$37 -> 0 | C18: =IF(Data!B49=TRUE,1,Data!C273) | D18: =B18*IF(ISNUMBER(C18)=TRUE,C18,0) -> 0 | E18: =Data!E273 -> 0 | F18: =D18-E18 -> 0 | G18: =IF(AND(ISNUMBER(C18)=TRUE, C18>0),F18 / C18,0) -> 0 | H18: ='Print Return'!L$41 -> 0 | I18: =IF(Data!B40<2015,MIN(G18,H18)/2,0) -> 0 | J18: =IF(Data!B40<2015,G18-I18,IF(G18-H18>0,G18-H18,0)) -> 0 | K18: =J18*IF(ISNUMBER(C18)=TRUE,C18,0) -> 0 | L18: =LOOKUP(Data!$B$33,Cities!$A$3:$A$356,Cities!$D$3:$D$356) -> 0 | M18: =ROUND(K18*L18,0) -> 0
A19: =Data!A274 -> 0 | B19: ='Print Return'!L$37 -> 0 | C19: =Data!C274 | D19: =B19*IF(ISNUMBER(C19)=TRUE,C19,0) -> 0 | E19: =Data!E274 -> 0 | F19: =D19-E19 -> 0 | G19: =IF(AND(ISNUMBER(C19)=TRUE, C19>0),F19 / C19,0) -> 0 | H19: ='Print Return'!L$41 -> 0 | I19: =IF(Data!B41<2015,MIN(G19,H19)/2,0) -> 0 | J19: =IF(Data!B41<2015,G19-I19,IF(G19-H19>0,G19-H19,0)) -> 0 | K19: =J19*IF(ISNUMBER(C19)=TRUE,C19,0) -> 0 | L19: =LOOKUP(Data!$B$34,Cities!$A$3:$A$356,Cities!$D$3:$D$356) -> 0 | M19: =ROUND(K19*L19,0) -> 0
A20: =Data!A275 -> 0 | B20: ='Print Return'!L$37 -> 0 | C20: =Data!C275 | D20: =B20*IF(ISNUMBER(C20)=TRUE,C20,0) -> 0 | E20: =Data!E275 -> 0 | F20: =D20-E20 -> 0 | G20: =IF(AND(ISNUMBER(C20)=TRUE, C20>0),F20 / C20,0) -> 0 | H20: ='Print Return'!L$41 -> 0 | I20: =IF(Data!B42<2015,MIN(G20,H20)/2,0) -> 0 | J20: =IF(Data!B42<2015,G20-I20,IF(G20-H20>0,G20-H20,0)) -> 0 | K20: =J20*IF(ISNUMBER(C20)=TRUE,C20,0) -> 0 | L20: =LOOKUP(Data!$B$35,Cities!$A$3:$A$356,Cities!$D$3:$D$356) -> 0 | M20: =ROUND(K20*L20,0) -> 0
A21: =Data!A276 -> 0 | B21: ='Print Return'!L$37 -> 0 | C21: =Data!C276 | D21: =B21*IF(ISNUMBER(C21)=TRUE,C21,0) -> 0 | E21: =Data!E276 -> 0 | F21: =D21-E21 -> 0 | G21: =IF(AND(ISNUMBER(C21)=TRUE, C21>0),F21 / C21,0) -> 0 | H21: ='Print Return'!L$41 -> 0 | I21: =IF(Data!B43<2015,MIN(G21,H21)/2,0) -> 0 | J21: =IF(Data!B43<2015,G21-I21,IF(G21-H21>0,G21-H21,0)) -> 0 | K21: =J21*IF(ISNUMBER(C21)=TRUE,C21,0) -> 0 | L21: =LOOKUP(Data!$B$36,Cities!$A$3:$A$356,Cities!$D$3:$D$356) -> 0 | M21: =ROUND(K21*L21,0) -> 0
A22: =Data!A277 -> 0 | B22: ='Print Return'!L$37 -> 0 | C22: =Data!C277 | D22: =B22*IF(ISNUMBER(C22)=TRUE,C22,0) -> 0 | E22: =Data!E277 -> 0 | F22: =D22-E22 -> 0 | G22: =IF(AND(ISNUMBER(C22)=TRUE, C22>0),F22 / C22,0) -> 0 | H22: ='Print Return'!L$41 -> 0 | I22: =IF(Data!B44<2015,MIN(G22,H22)/2,0) -> 0 | J22: =IF(Data!B44<2015,G22-I22,IF(G22-H22>0,G22-H22,0)) -> 0 | K22: =J22*IF(ISNUMBER(C22)=TRUE,C22,0) -> 0 | L22: =LOOKUP(Data!$B$37,Cities!$A$3:$A$356,Cities!$D$3:$D$356) -> 0 | M22: =ROUND(K22*L22,0) -> 0
A23: Totals | C23: Total Allocation % | E23: Total Utilized Post-Apportioned NOL | K23: Total Amt Allocatable to RITA | M23: Total Tax
C24: =SUM(C18:C22) -> 0 | E24: =SUM(E18:E22) -> 0 | H24: =IF(Overflow!F112>0,Overflow!F112, MAX(J18:J22)) -> 0 | I24: =IF('Overflows Worksheet'!J400>0,'Overflows Worksheet'!J400, FLOOR(MAX(I18:I22),1)) -> 0 | J24: =IF('Overflows Worksheet'!J400>0,'Overflows Worksheet'!J400, MAX(J18:J22)) -> 0 | K24: =IF(Overflow!F113>0,Overflow!F113,SUM(J18:J22)) -> 0 | M24: =SUM(M18:M22) -> 0

Sheet Muni Carryovers
A3: NOTE: Municipal Carryover calculations below apply to post apportioned losses for TYs beginning prior to 1/1/17
A4: Municipal Carryover Information from Your Records
A5: =IF(Data!F44="","",CONCATENATE("Cities that prohibit NOL carryovers: ",Data!F44))
A6: Municipal | C6: Year Unused NOL Generated | I6: Yrs
A7: NOL Carryovers | C7: ='Complete This Page'!D98 -> 2013 | D7: ='Complete This Page'!E98 -> 2014 | E7: ='Complete This Page'!F98 -> 2015 | F7: ='Complete This Page'!G98 -> 2016 | G7: ='Complete This Page'!H98 -> 2017 | H7: Utilized
A8: ='Complete This Page'!B99 | C8: ='Complete This Page'!D99 -> 0 | D8: ='Complete This Page'!E99 -> 0 | E8: ='Complete This Page'!F99 -> 0 | F8: ='Complete This Page'!G99 -> 0 | G8: ='Complete This Page'!H99 -> 0 | H8: ='Complete This Page'!J99 -> 0 | I8: =+Data!C33 -> 0
A9: ='Complete This Page'!B100 | C9: ='Complete This Page'!D100 -> 0 | D9: ='Complete This Page'!E100 -> 0 | E9: ='Complete This Page'!F100 -> 0 | F9: ='Complete This Page'!G100 -> 0 | G9: ='Complete This Page'!H100 -> 0 | H9: ='Complete This Page'!J100 -> 0 | I9: =+Data!C34 -> 0
A10: ='Complete This Page'!B101 | C10: ='Complete This Page'!D101 -> 0 | D10: ='Complete This Page'!E101 -> 0 | E10: ='Complete This Page'!F101 -> 0 | F10: ='Complete This Page'!G101 -> 0 | G10: ='Complete This Page'!H101 -> 0 | H10: ='Complete This Page'!J101 -> 0 | I10: =+Data!C35 -> 0
A11: ='Complete This Page'!B102 | C11: ='Complete This Page'!D102 -> 0 | D11: ='Complete This Page'!E102 -> 0 | E11: ='Complete This Page'!F102 -> 0 | F11: ='Complete This Page'!G102 -> 0 | G11: ='Complete This Page'!H102 -> 0 | H11: ='Complete This Page'!J102 -> 0 | I11: =+Data!C36 -> 0
A12: ='Complete This Page'!B103 | C12: ='Complete This Page'!D103 -> 0 | D12: ='Complete This Page'!E103 -> 0 | E12: ='Complete This Page'!F103 -> 0 | F12: ='Complete This Page'!G103 -> 0 | G12: ='Complete This Page'!H103 -> 0 | H12: ='Complete This Page'!J103 -> 0 | I12: =+Data!C37 -> 0
A13: Pre-apportioned NOL | C13: ='Complete This Page'!D108 -> 0 | D13: ='Complete This Page'!E108 -> 0 | E13: ='Complete This Page'!F108 -> 0 | F13: ='Complete This Page'!G108 -> 0 | G13: ='Complete This Page'!H108 -> 0 | H13: ='Complete This Page'!K108 -> 0
A16: Local Tax Calc Worksheet applicable if "Utilizing NOL incurred prior to 1/1/17 first" is checked
A17: City Name | B17: 1) AFTI (Form 27, Line 3A) | C17: 2) AFTI Allocation % (From Schedule Y, Part II, Column J) | D17: 3) Col 1 Multiplied by Col 2 | E17: 4) Post Apportioned Loss Utilized (from table above) | F17: 5) Col 3 minus Col 4 | G17: 6) Divide Col 5 by Col 2 | H17: 7) Pre-apportioned NOL from Form 27, Line 3B(i) | I17: 8) 50% of the lesser of Col 6 and Col 7 | J17: 9) Col 6 minus Col 8 (cannot be less then 0) | K17: 10) Col 9 multiplied by Col 2 | L17: 11) Municipal Tax Rate | M17: 12) Col 10 multiplied by Col 11 (if $10 or less enter 0 on Sched B)
A18: =Data!A273 -> 0 | B18: ='Print Return'!L$37 -> 0 | C18: =Data!C273 | D18: =B18*IF(ISNUMBER(C18)=TRUE,C18,0) -> 0 | E18: =Data!E273 -> 0 | F18: =D18-E18 -> 0 | G18: =IF(ISNUMBER(C18)=TRUE,F18 / C18,0) -> 0 | H18: ='Print Return'!L$41 -> 0 | I18: =IF(Data!B40<2015,MIN(G18,H18)/2,0) -> 0 | J18: =IF(Data!B40<2015,G18-I18,IF(G18-H18>0,G18-H18,0)) -> 0 | K18: =J18*IF(ISNUMBER(C18)=TRUE,C18,0) -> 0 | L18: =LOOKUP(Data!$B$33,Cities!$A$3:$A$356,Cities!$D$3:$D$356) -> 0 | M18: =ROUND(K18*L18, 0) -> 0
A19: =Data!A274 -> 0 | B19: ='Print Return'!L$37 -> 0 | C19: =Data!C274 | D19: =B19*IF(ISNUMBER(C19)=TRUE,C19,0) -> 0 | E19: =Data!E274 -> 0 | F19: =D19-E19 -> 0 | G19: =IF(ISNUMBER(C19)=TRUE,F19 / C19,0) -> 0 | H19: ='Print Return'!L$41 -> 0 | I19: =IF(Data!B41<2015,MIN(G19,H19)/2,0) -> 0 | J19: =IF(Data!B41<2015,G19-I19,IF(G19-H19>0,G19-H19,0)) -> 0 | K19: =J19*IF(ISNUMBER(C19)=TRUE,C19,0) -> 0 | L19: =LOOKUP(Data!$B$34,Cities!$A$3:$A$356,Cities!$D$3:$D$356) -> 0 | M19: =ROUND(K19*L19, 0) -> 0
A20: =Data!A275 -> 0 | B20: ='Print Return'!L$37 -> 0 | C20: =Data!C275 | D20: =B20*IF(ISNUMBER(C20)=TRUE,C20,0) -> 0 | E20: =Data!E275 -> 0 | F20: =D20-E20 -> 0 | G20: =IF(ISNUMBER(C20)=TRUE,F20 / C20,0) -> 0 | H20: ='Print Return'!L$41 -> 0 | I20: =IF(Data!B42<2015,MIN(G20,H20)/2,0) -> 0 | J20: =IF(Data!B42<2015,G20-I20,IF(G20-H20>0,G20-H20,0)) -> 0 | K20: =J20*IF(ISNUMBER(C20)=TRUE,C20,0) -> 0 | L20: =LOOKUP(Data!$B$35,Cities!$A$3:$A$356,Cities!$D$3:$D$356) -> 0 | M20: =ROUND(K20*L20, 0) -> 0
A21: =Data!A276 -> 0 | B21: ='Print Return'!L$37 -> 0 | C21: =Data!C276 | D21: =B21*IF(ISNUMBER(C21)=TRUE,C21,0) -> 0 | E21: =Data!E276 -> 0 | F21: =D21-E21 -> 0 | G21: =IF(ISNUMBER(C21)=TRUE,F21 / C21,0) -> 0 | H21: ='Print Return'!L$41 -> 0 | I21: =IF(Data!B43<2015,MIN(G21,H21)/2,0) -> 0 | J21: =IF(Data!B43<2015,G21-I21,IF(G21-H21>0,G21-H21,0)) -> 0 | K21: =J21*IF(ISNUMBER(C21)=TRUE,C21,0) -> 0 | L21: =LOOKUP(Data!$B$36,Cities!$A$3:$A$356,Cities!$D$3:$D$356) -> 0 | M21: =ROUND(K21*L21, 0) -> 0
A22: =Data!A277 -> 0 | B22: ='Print Return'!L$37 -> 0 | C22: =Data!C277 | D22: =B22*IF(ISNUMBER(C22)=TRUE,C22,0) -> 0 | E22: =Data!E277 -> 0 | F22: =D22-E22 -> 0 | G22: =IF(ISNUMBER(C22)=TRUE,F22 / C22,0) -> 0 | H22: ='Print Return'!L$41 -> 0 | I22: =IF(Data!B44<2015,MIN(G22,H22)/2,0) -> 0 | J22: =IF(Data!B44<2015,G22-I22,IF(G22-H22>0,G22-H22,0)) -> 0 | K22: =J22*IF(ISNUMBER(C22)=TRUE,C22,0) -> 0 | L22: =LOOKUP(Data!$B$37,Cities!$A$3:$A$356,Cities!$D$3:$D$356) -> 0 | M22: =ROUND(K22*L22, 0) -> 0
A23: Totals | C23: Total Allocation % | E23: Total Utilized Post-Apportioned NOL | K23: Total Amt Allocatable to RITA | M23: Total Tax
C24: =SUM(C18:C22) -> 0 | E24: =SUM(E18:E22) -> 0 | K24: =SUM(K18:K22) -> 0 | M24: =SUM(M18:M22) -> 0
A28: Local Tax Calc Worksheet applicable if "Utilizing NOL incurred prior to 1/1/17 first" is not checked
A29: City Name | B29: 1) Income Subject to Apportion-ment - Form 27, Line 3B(iii) | C29: 2) AFTI Allocation % | D29: 3) Col 1 Multiplied by Col 2 | E29: 4) Post Apportioned Loss Utilized | K29: 5) Calculate 3) minus 4) | L29: 6) Municipal Tax Rate | M29: 7) Col 5 multiplied by Col 6 (0 if $10 or less enter 0 on Sched B)
A30: =Data!A273 -> 0 | B30: =IF(Data!B40<2015,'Print Return'!L$45,J18) -> 0 | C30: =Data!C273 | D30: =B30*IF(ISNUMBER(C30)=TRUE,C30,0) -> 0 | E30: =Data!E273 -> 0 | K30: =IF(B30>0,D30-E30,0) -> 0 | L30: =LOOKUP(Data!$B$33,Cities!$A$3:$A$356,Cities!$D$3:$D$356) -> 0 | M30: =ROUND(K30*L30,0) -> 0
A31: =Data!A274 -> 0 | B31: =IF(Data!B41<2015,'Print Return'!L$45,J19) -> 0 | C31: =Data!C274 | D31: =B31*IF(ISNUMBER(C31)=TRUE,C31,0) -> 0 | E31: =Data!E274 -> 0 | K31: =IF(B31>0,D31-E31,0) -> 0 | L31: =LOOKUP(Data!$B$34,Cities!$A$3:$A$356,Cities!$D$3:$D$356) -> 0 | M31: =ROUND(K31*L31,0) -> 0
A32: =Data!A275 -> 0 | B32: =IF(Data!B42<2015,'Print Return'!L$45,J20) -> 0 | C32: =Data!C275 | D32: =B32*IF(ISNUMBER(C32)=TRUE,C32,0) -> 0 | E32: =Data!E275 -> 0 | K32: =IF(B32>0,D32-E32,0) -> 0 | L32: =LOOKUP(Data!$B$35,Cities!$A$3:$A$356,Cities!$D$3:$D$356) -> 0 | M32: =ROUND(K32*L32,0) -> 0
A33: =Data!A276 -> 0 | B33: =IF(Data!B43<2015,'Print Return'!L$45,J21) -> 0 | C33: =Data!C276 | D33: =B33*IF(ISNUMBER(C33)=TRUE,C33,0) -> 0 | E33: =Data!E276 -> 0 | K33: =IF(B33>0,D33-E33,0) -> 0 | L33: =LOOKUP(Data!$B$36,Cities!$A$3:$A$356,Cities!$D$3:$D$356) -> 0 | M33: =ROUND(K33*L33,0) -> 0
A34: =Data!A277 -> 0 | B34: =IF(Data!B44<2015,'Print Return'!L$45,J22) -> 0 | C34: =Data!C277 | D34: =B34*IF(ISNUMBER(C34)=TRUE,C34,0) -> 0 | E34: =Data!E277 -> 0 | K34: =IF(B34>0,D34-E34,0) -> 0 | L34: =LOOKUP(Data!$B$37,Cities!$A$3:$A$356,Cities!$D$3:$D$356) -> 0 | M34: =ROUND(K34*L34,0) -> 0
A35: Totals | C35: Total Allocation % | E35: Tot Utilized Post-App NOL | K35: Tot Amt Alloc To RITA | M35: Total Tax
C36: =SUM(C30:C34) -> 0 | E36: =SUM(E30:E34) -> 0 | K36: =SUM(K30:K34) -> 0 | M36: =SUM(M30:M34) -> 0

Sheet Fed Carryovers
A1: Federal Carryover Information from Your Records
A2: Charitiable contribution carryovers, section 179 carryovers, and capital loss carryovers are calculated based on your federal taxable income, and are not tracked by municipality. Since these amounts are always the same as a C corporation's federal taxable amounts, only taxpayers who are not C corporations and not individuals need to complete the schedule below. C corporation should attach copies of their federal carryover schedules to their municipal tax return. The amounts entered below by non-C corporations should match what would have claimed for federal tax purposes if the taxpayer was a C corporation.
A3: Unrecaptured §1231 losses and the federal net operating loss are need to convert a non-C corporation's income into a C corporation's income per ORC 718.01(A)(1)(g). The §1231 losses are used to determine the allowable capital losses, and the federal net operating loss is use in determining the allowable charitable contribution deduction.
A5: Carryovers | C5: Year Unused Contributions Generated | I5: Available | K5: Per Mark Taranto & Alicia Kline, contribution deductions & carryovers are based federal taxable income, and thus should always match the "c-corp" federal tax amounts.
C6: ='Complete This Page'!D118 -> 2013 | D6: ='Complete This Page'!E118 -> 2014 | E6: ='Complete This Page'!F118 -> 2015 | F6: ='Complete This Page'!G118 -> 2016 | G6: ='Complete This Page'!H118 -> 2017 | H6: Current
A7: Charitable Contributions | C7: =+'Complete This Page'!D119 -> 0 | D7: =+'Complete This Page'!E119 -> 0 | E7: =+'Complete This Page'!F119 -> 0 | F7: =+'Complete This Page'!G119 -> 0 | G7: =+'Complete This Page'!H119 -> 0 | H7: =+'Complete This Page'!I55 -> 0 | I7: =SUM(C7:H7) -> 0 | K7: Per Mark Taranto & Alicia Kline, 179 deductions & carryovers are based federal taxable income, and thus should always match the "c-corp" federal tax amounts.
A8: Capital Loss Carryovers | C8: =+'Complete This Page'!D120 -> 0 | D8: =+'Complete This Page'!E120 -> 0 | E8: =+'Complete This Page'!F120 -> 0 | F8: =+'Complete This Page'!G120 -> 0 | G8: =+'Complete This Page'!H120 -> 0 | I8: =SUM(C8:H8) -> 0
A9: Unrecovered §1231 Losses | C9: =+'Complete This Page'!D121 -> 0 | D9: =+'Complete This Page'!E121 -> 0 | E9: =+'Complete This Page'!F121 -> 0 | F9: =+'Complete This Page'!G121 -> 0 | G9: =+'Complete This Page'!H121 -> 0 | I9: =SUM(C9:H9) -> 0 | K9: Per Mark Taranto & Alicia Kline, capital loss deduction & carryovers are based federal taxable income, and thus should always match the "c-corp" federal tax amounts.
A10: Federal Net Operating Losses | C10: =+'Complete This Page'!D122 -> 0 | D10: =+'Complete This Page'!E122 -> 0 | E10: =+'Complete This Page'!F122 -> 0 | F10: =+'Complete This Page'!G122 -> 0 | G10: =+'Complete This Page'!H122 -> 0 | I10: =SUM(C10:H10) -> 0
A11: Section 179 | C11: =+'Complete This Page'!D123 -> 0 | D11: =+'Complete This Page'!E123 -> 0 | E11: =+'Complete This Page'!F123 -> 0 | F11: =+'Complete This Page'!G123 -> 0 | G11: =+'Complete This Page'!H123 -> 0 | H11: =+'Complete This Page'!I53 -> 0 | I11: =SUM(C11:H11) -> 0 | K11: Need fed NOL to calc allowable charitable contribution deduction.
A12: Note: Fiscal year taxpayers use "fiscal year beginning in 20XX" when completing this schedule.
A17: FEDERAL TAXABLE INCOME CALCULATION
A18: For use by taxpayers that are not C Corporations
B20: Part I: Federal Taxable Income as if a C Corporation
A21: 1 | B21: Income before net operating losses and special deductions | H21: =+'Complete This Page'!I42 -> 0 | J21: =+A21 -> 1
A22: =+A21+1 -> 2 | B22: Qualified self-employed retirement plan for owners | F22: =+'Complete This Page'!I56 -> 0
A23: =+A22+1 -> 3 | B23: Health insurance paid or accrued for owners | F23: =+'Complete This Page'!I57 -> 0
A24: =+A23+1 -> 4 | B24: Life insurance paid or accrued for owners | F24: =+'Complete This Page'!I58 -> 0
A25: =+A24+1 -> 5 | B25: =CONCATENATE("Deductions not permitted by §718.01(A)(1)(g). Combine lines ",A22," - ",A24) -> Deductions not permitted by §718.01(A)(1)(g). Combine lines 2 - 4 | H25: =SUM(F22:G24) -> 0 | J25: =+A25 -> 5
A26: =+A25+1 -> 6 | B26: =CONCATENATE("Combine lines ",A21," and ",A25) -> Combine lines 1 and 5 | H26: =+H21+H25 -> 0 | J26: =+A26 -> 6
A27: =+A26+1 -> 7 | B27: =CONCATENATE("Allowable prior year capital losses. Enter the amount from line ",A62) -> Allowable prior year capital losses. Enter the amount from line 36 | H27: =+H62 -> 0 | J27: =+A27 -> 7
A28: =+A27+1 -> 8 | B28: =CONCATENATE("Subtract line ",A27," from ",A26) -> Subtract line 7 from 6 | H28: =+H26-H27 -> 0 | J28: =+A28 -> 8
A29: =+A28+1 -> 9 | B29: =CONCATENATE("Capital losses in excess of capital gains. Enter the amount from line ",A65) -> Capital losses in excess of capital gains. Enter the amount from line 38 | H29: =+H65 -> 0 | J29: =+A29 -> 9
A30: =+A29+1 -> 10 | B30: =CONCATENATE("Add line ",A29," from ",A28) -> Add line 9 from 8 | H30: =+H28+H29 -> 0 | J30: =+A30 -> 10
A31: =+A30+1 -> 11 | B31: Section 179 deduction in the current year | F31: =+H11 -> 0
A32: =+A31+1 -> 12 | B32: Charitable contributions deducted in the current year | F32: =+H7 -> 0
A33: =+A32+1 -> 13 | B33: =CONCATENATE("Combine lines ",A31," and ",A32) -> Combine lines 11 and 12 | H33: =SUM(F31:G32) -> 0 | J33: =+A33 -> 13
A34: =+A33+1 -> 14 | B34: =CONCATENATE("'C-Corp' Income before contributions, §179, and NOL. Add lines ",A30," and ",A33) -> 'C-Corp' Income before contributions, §179, and NOL. Add lines 10 and 13 | H34: =+H30+H33 -> 0 | J34: =+A34 -> 14
A36: =+A34+1 -> 15 | B36: =CONCATENATE("Enter the amount on line ",A34,". If line ",A34," is less than zero, enter zero") -> Enter the amount on line 14. If line 14 is less than zero, enter zero | H36: =IF(H34<0,0,H34) -> 0 | J36: =+A36 -> 15
A37: =+A36+1 -> 16 | B37: =CONCATENATE("Allowable current year §179 deduction. Enter the lesser of line ",A31," or line ",A36) -> Allowable current year §179 deduction. Enter the lesser of line 11 or line 15 | H37: =IF(F31<H36,F31,H36) -> 0 | J37: =+A37 -> 16
A38: =+A37+1 -> 17 | B38: =CONCATENATE("Subtract line ",A37," from line ",A34) -> Subtract line 16 from line 14 | H38: =+H34-H37 -> 0 | J38: =+A38 -> 17
A39: =+A38+1 -> 18 | B39: =CONCATENATE("Enter the amount on line ",A38,". If line ",A38," is less than zero, enter zero") -> Enter the amount on line 17. If line 17 is less than zero, enter zero | H39: =IF(H38<0,0,H38) -> 0 | J39: =+A39 -> 18
A40: =+A39+1 -> 19 | B40: =CONCATENATE("Enter the lesser of line ",A39," or the unused §179 carryover") -> Enter the lesser of line 18 or the unused §179 carryover | H40: =IF(SUM(C11:G11)<H39,SUM(C11:G11),H39) -> 0 | J40: =+A40 -> 19
A41: =+A40+1 -> 20 | B41: =CONCATENATE("Federal 'C-Corp' income before contribution deduction and NOL. Subtract line ",A40," from ",A38) -> Federal 'C-Corp' income before contribution deduction and NOL. Subtract line 19 from 17 | H41: =+H38-H40 -> 0 | J41: =+A41 -> 20
A43: =+A41+1 -> 21 | B43: =CONCATENATE("Enter the amount on line ",A41,". If line ",A41," is less than zero, enter zero") -> Enter the amount on line 20. If line 20 is less than zero, enter zero | H43: =IF(H41<0,0,H41) -> 0 | J43: =+A43 -> 21
A44: =+A43+1 -> 22 | B44: =CONCATENATE("Enter the lesser of line ",A43," or the federal net operating loss carryover") -> Enter the lesser of line 21 or the federal net operating loss carryover | H44: =IF(H43<I10,H43,I10) -> 0 | J44: =+A44 -> 22
A45: =+A44+1 -> 23 | B45: =CONCATENATE("Federal 'C-Corp' income before contribution deduction. Subtract line ",A44," from ",A41) -> Federal 'C-Corp' income before contribution deduction. Subtract line 22 from 20 | H45: =+H41-H44 -> 0 | J45: =+A45 -> 23
A47: =+A45+1 -> 24 | B47: =CONCATENATE("Enter the amount on line ",A45,". If line ",A45," is less than zero, enter zero") -> Enter the amount on line 23. If line 23 is less than zero, enter zero | H47: =IF(H45<0,0,H45) -> 0 | J47: =+A47 -> 24
A48: =+A47+1 -> 25 | B48: =CONCATENATE("Multiply line ",A47," by 0.10") -> Multiply line 24 by 0.10 | H48: =ROUND(H47*0.1,0) -> 0 | J48: =+A48 -> 25
A49: =+A48+1 -> 26 | B49: =CONCATENATE("Enter the lesser of line ",A48," or the available contribution deduction and carryovers") -> Enter the lesser of line 25 or the available contribution deduction and carryovers | H49: =IF(H48<I7,H48,I7) -> 0 | J49: =+A49 -> 26
...

Sheet Form 8903
A1: Form | B1: 8903 | C1: Domestic Production Activities Deduction | G1: =+'Print Schedules'!K1 -> 2018
A2: RITA Substitute Form | C2: Substitute Form for Use by Non-C-Corporations | G2: =+'Complete This Page'!J1 -> NPAC v2018.0
A3: Name(s) as shown on return | G3: Identifying number
B4: =+'Complete This Page'!B3 -> 0 | G4: =+'Complete This Page'!G3 -> 0
B5: Note. Do not complete column (a), unless you have oil-related production activities. Enter amounts for all activites in column (b), including oil-related production activities. | D5: (a) | G5: (b)
D6: Oil-related production activities | G6: All activities
A7: 1 | B7: Domestic production gross receipts (DPGR) | D7: =+A7 -> 1
A8: =+A7+1 -> 2 | B8: Allocable cost of good sold. If you are using the small business simplified overall method, skip lines 2 and 3. | D8: =+A8 -> 2
A9: =+A8+1 -> 3 | B9: Deductions and losses allocable to DPGR | D9: =+A9 -> 3
A10: =+A9+1 -> 4 | B10: If you are using the small business simplified overall method, enter the amount of cost of goods sold and other deductions or losses you ratably apportion to DPGR. All others, skip line 4 | D10: =+A10 -> 4
A11: =+A10+1 -> 5 | B11: Add lines 2 through 4 | D11: =+A11 -> 5 | E11: =SUM(E8:E10) -> 0 | G11: =SUM(G8:G10) -> 0
A12: =+A11+1 -> 6 | B12: Subtract Line 5 from line 1 | D12: =+A12 -> 6 | E12: =+E7-E11 -> 0 | G12: =G7-G11 -> 0
A13: =+A12+1 -> 7 | B13: Qualified production activities from estates, trusts, and certain partnerships and S corporations | D13: =+A13 -> 7
A14: =+A13+1 -> 8 | B14: Add lines 6 and 7. Estates & trusts go to line 9, all others skip line 9 and go to line 10 | D14: =+A14 -> 8 | E14: =+E12+E13 -> 0 | G14: =+G12+G13 -> 0
A15: =+A14+1 -> 9 | B15: Amount allocated to beneficiaries of the estate or trust | D15: =+A15 -> 9 | E15: 0 | G15: 0
A16: 10a | B16: Oil-related qualified production activities income. Estates & trusts subtract line 9, column (a), from line 8, column (a), all others enter the amount from line 8, column (a). If zero or less, enter -0- here. | D16: =+A16 -> 10a | E16: =IF(E14-E15 <0, 0, E14-E15) -> 0
A17: b | B17: Qualified production activities income. Estates & trusts subtract line 9, column (b), from line 8, column (b), all others enter the amount from line 8, column (b). If zero or less, enter -0- here, skip lines 1 through 21, and enter -0- on line 22. | D17: 10b | G17: =IF(G14-G15 <0, 0, G14-G15) -> 0
A18: 11 | B18: Income limitation. Enter taxable income before DPAD from line 32 below | F18: =+A18 -> 11 | G18: =+G46 -> 0
A19: =+A18+1 -> 12 | B19: Enter the smaller of line 10b or 11. If zero or less, enter -0- here, skip lines 13 trhough 21,and enter -0- on line 22. | F19: =+A19 -> 12 | G19: =IF(G18<0, 0, IF(G18<G17,G18,G17)) -> 0
A20: =+A19+1 -> 13 | B20: =IF(G1<2010,"Enter 6% of line 12","Enter 9% of Line 12") -> Enter 9% of Line 12 | F20: =+A20 -> 13 | G20: =IF(G1<2010,ROUND(G19*0.06,0),ROUND(G19*0.09,0)) -> 0
A21: 14a | B21: Enter the smaller of line 10a or line 12 | D21: =+A21 -> 14a | E21: =IF(E16<G19, E16, G19) -> 0
A22: b | B22: Reduction for oil-related qualified production activities income. Multiply line 14a by 3% | F22: 14b | G22: =ROUND(E21*0.03,0) -> 0
A23: 15 | B23: Subtract line 14b from line 13 | F23: =+A23 -> 15 | G23: =+G20-G22 -> 0
A24: 16 | B24: Form W-2 wages allocable to DPGR | F24: =+A24 -> 16
A25: =+A24+1 -> 17 | B25: Form W-2 wages from estates, trusts, and certain partnerships and S corporations | F25: =+A25 -> 17
A26: =+A25+1 -> 18 | B26: Add lines 16 and 17. Estates & trusts go to line 19, all others, skip line 19 and go to line 20 | F26: =+A26 -> 18 | G26: =+G24+G25 -> 0
A27: =+A26+1 -> 19 | B27: Amount allocated to beneficiaries of the estate or trust | F27: =+A27 -> 19 | G27: 0
A28: =+A27+1 -> 20 | B28: Estates & trusts, subtract line 19 from line 18, all others, enter the amount from line 18 | F28: =+A28 -> 20 | G28: =+G26-G27 -> 0
A29: =+A28+1 -> 21 | B29: Form W-2 wages limitation. Enter 50% of line 20 | F29: =+A29 -> 21 | G29: =ROUND(G28*0.5,0) -> 0
A30: =+A29+1 -> 22 | B30: Enter the smaller of line 15 or line 21 | F30: =+A30 -> 22 | G30: =IF(G29<G23, G29,G23) -> 0
A31: =+A30+1 -> 23 | B31: Domestic production activities deduction from cooperatives (box 6 of Form 1099-PATR) | F31: =+A31 -> 23
A32: =+A31+1 -> 24 | B32: Expanded affiliated group allocation | F32: =+A32 -> 24
A33: =+A32+1 -> 25 | B33: Domestic production activities deduction. Combine lines 20 through 24. | F33: =+A33 -> 25 | G33: =SUM(G30:G32) -> 0
A35: Federal Taxable Income for Income Limitiation
A36: 26 | B36: Federal taxable income before net operating losses and special deductions | F36: =+A36 -> 26 | G36: =+'Fed Carryovers'!H21 -> 0
A37: =+A36+1 -> 27 | B37: Federal net operating loss calculated as if a C-corporation | D37: =+A37 -> 27
A38: =+A37+1 -> 28 | B38: Federal dividend & special deductions calculated as if a C-corporation | D38: =+A38 -> 28
A39: =+A38+1 -> 29 | B39: Add Lines 27 and 28 | F39: =+A39 -> 29 | G39: =ABS(E37)+ABS(E38) -> 0
A40: =+A39+1 -> 30 | B40: Federal taxable income calculated as if a C-corporation before required adjustments | F40: =+A40 -> 30 | G40: =+G36-G39 -> 0
A41: =+A40+1 -> 31 | B41: Owner health, life or qualified self-employed retirement plan | D41: =+A41 -> 31 | E41: =+'Fed Carryovers'!H25 -> 0
...

Sheet Form 8903 (pre 2011)
A1: Form | B1: 8903 | C1: Domestic Production Activities Deduction | H1: =+'Print Schedules'!K1 -> 2018
A2: RITA Substitute Form | C2: Substitute Form for Use by Non-C-Corporations | H2: =+'Complete This Page'!J1 -> NPAC v2018.0
A3: Name(s) as shown on return | G3: Identifying number
B4: =+'Complete This Page'!B3 -> 0 | H4: =+'Complete This Page'!G3 -> 0
A5: 1 | B5: Domestic production gross receipts (DPGR) | D5: =IF('Complete This Page'!I67="","",IF(H5>'Complete This Page'!I67,"Warning: DPGR exceeds Gross Receipts","")) | G5: =+A5 -> 1
A6: =+A5+1 -> 2 | B6: Allocable cost of good sold (skip lines 2 & 3 if using small business method). | D6: =+A6 -> 2
A7: =+A6+1 -> 3 | B7: Deductions and losses allocable to DPGR | D7: =+A7 -> 3
A8: =+A7+1 -> 4 | B8: Small business method cost of goods sold & deductions | D8: =+A8 -> 4
A9: =+A8+1 -> 5 | B9: Add lines 2 through 4 | G9: =+A9 -> 5 | H9: =SUM(E6:E8) -> 0
A10: =+A9+1 -> 6 | B10: Subtract Line 5 from line 1 | G10: =+A10 -> 6 | H10: =H5-H9 -> 0
A11: =+A10+1 -> 7 | B11: Qualified production activities from estates, trusts, and certain partnerships & s-corps | G11: =+A11 -> 7
A12: =+A11+1 -> 8 | B12: Add lines 6 and 7. Estates & trusts go to line 9, all others skip line 9 & go to line 10 | G12: =+A12 -> 8 | H12: =+H10+H11 -> 0
A13: =+A12+1 -> 9 | B13: Amount allocated to beneficiaries of the estate or trust | G13: =+A13 -> 9 | H13: 0
A14: =+A13+1 -> 10 | B14: Qualified production activities income. Estates & trusts subtract line 9 from line 8, all other enter the amount from line 8. If zero or less, enter -0- here and on line 20 | G14: =+A14 -> 10 | H14: =IF(H12-H13 <0, 0, H12-H13) -> 0
A15: =+A14+1 -> 11 | B15: Income limitation. Enter taxable income before DPAD from line 30 below | G15: =+A15 -> 11 | H15: =+H40 -> 0
A16: =+A15+1 -> 12 | B16: Enter the smaller of line 10 or 11. If zero or less, enter -0- here and on line 20 | G16: =+A16 -> 12 | H16: =IF(H15<0, 0, IF(H15<H14,H15,H14)) -> 0
A17: =+A16+1 -> 13 | B17: =IF(H1<2010,"Enter 6% of line 12","Enter 9% of Line 12") -> Enter 9% of Line 12 | G17: =+A17 -> 13 | H17: =IF(H1<2010,ROUND(H16*0.06,0),ROUND(H16*0.09,0)) -> 0
A18: =+A17+1 -> 14 | B18: Form W-2 wages allocable to DPGR | D18: =IF(SUM('Complete This Page'!I68:I70) = 0,"",IF(H18>SUM('Complete This Page'!I68:I70),"Warning: Wages exceed total wages","")) | G18: =+A18 -> 14
A19: =+A18+1 -> 15 | B19: Form W-2 wages from estates, trusts, and certain partnerships & s-corps | G19: =+A19 -> 15
A20: =+A19+1 -> 16 | B20: Add lines 14 and 15. Estates & trusts go to line 17, all other skip line 17 & go to line 18 | G20: =+A20 -> 16 | H20: =+H18+H19 -> 0
A21: =+A20+1 -> 17 | B21: Amount allocated to beneficiaries of the estate or trust | G21: =+A21 -> 17 | H21: 0
A22: =+A21+1 -> 18 | B22: Estates & trusts, subtract line 17 from line 16, all other enter the amount from line 16 | G22: =+A22 -> 18 | H22: =+H20-H21 -> 0
A23: =+A22+1 -> 19 | B23: Form W-2 wages limitation. Enter 50% of line 18 | G23: =+A23 -> 19 | H23: =ROUND(H22*0.5,0) -> 0
A24: =+A23+1 -> 20 | B24: Enter the smaller of line 13 or line 19 | G24: =+A24 -> 20 | H24: =IF(H23<H17, H23,H17) -> 0
A25: =+A24+1 -> 21 | B25: Domestic production activities deduction from cooperatives (box 6 of Form 1099-PATR) | G25: =+A25 -> 21
A26: =+A25+1 -> 22 | B26: Expanded affiliated group allocation | G26: =+A26 -> 22
A27: =+A26+1 -> 23 | B27: Domestic production activities deduction. Combine lines 20 through 22. | G27: =+A27 -> 23 | H27: =SUM(H24:H26) -> 0
A29: Federal Taxable Income for Income Limitiation
A30: 24 | B30: Federal taxable income before net operating losses and special deductions | G30: =+A30 -> 24 | H30: =+'Fed Carryovers'!H21 -> 0
A31: =+A30+1 -> 25 | B31: Federal net operating loss calculated as if a C-corporation | D31: =+A31 -> 25
A32: =+A31+1 -> 26 | B32: Federal dividend & special deductions calculated as if a C-corporation | D32: =+A32 -> 26
A33: =+A32+1 -> 27 | B33: Add Lines 27 and 28 | G33: =+A33 -> 27 | H33: =+ABS(E31)+ABS(E32) -> 0
A34: =+A33+1 -> 28 | B34: Federal taxable income calculated as if a C-corporation before required adjustments | G34: =+A34 -> 28 | H34: =+H30-H33 -> 0
A35: =+A34+1 -> 29 | B35: Owner health, life or qualified self-employed retirement plan | D35: =+A35 -> 29 | E35: =+'Fed Carryovers'!H25 -> 0
A36: =+A35+1 -> 30 | B36: Capital losses in excess of gains or (loss carryovers used) | D36: =+A36 -> 30 | E36: =+'Fed Carryovers'!H29-'Fed Carryovers'!H27 -> 0
A37: =+A36+1 -> 31 | B37: Excess §179 deductions of (§179 carryovers used) | D37: =+A37 -> 31 | E37: =IF(Data!F9=TRUE,0,Data!C159) -> 0
A38: =+A37+1 -> 32 | B38: Excess charitable contributions or (contribution carryovers used) | D38: =+A38 -> 32 | E38: =IF(Data!F9=TRUE,0,Data!C148) -> 0
A39: =+A38+1 -> 33 | B39: =CONCATENATE("Combine lines ",A35," through ",A38) -> Combine lines 29 through 32 | G39: =+A39 -> 33 | H39: =SUM(E35:E38) -> 0
A40: =+A39+1 -> 34 | B40: Federal taxable income calculated as if a C-Corporation per ORC 718.01(A)(1)(g) | G40: =+A40 -> 34 | H40: =+H34+H39 -> 0
A41: Note: Line 24 does not included a deduction for guaranteed payments and thus satisfies the requirements of ORC §718.01(A)(1)(g)(i).

Sheet Cities
C1: Tax Year Used for Rates: | D1: =IF(References!C2<2004,2004,References!C2) -> 2018
A2: Index | B2: City Code | C2: City Name | D2: Tax Rate | E2: Est Rate | F2: 2004 | G2: 2005 | H2: 2006 | I2: 2007 | J2: 2008 | K2: 2009 | L2: 2010 | M2: 2011 | N2: 2012 | O2: 2013 | P2: 2014 | Q2: 2015 | R2: 2016 | S2: 2017 | T2: 2018 | U2: 2019 | V2: NOL Years | W2: NOL Type | X2: Custom Warning | Y2: Consolidated | Z2: Confirmed | AA2: Last Year of 0% tax rate
A3: 1 | B3: 0
A4: =+A3+1 -> 2 | B4: 23 | C4: Aberdeen | D4: =HLOOKUP(D$1,F$2:U$405,(A4+1),FALSE) -> 0.01 | E4: =HLOOKUP(D$1+1,F$2:U$405,(A4+1),FALSE) -> 0.01 | F4: 0 | G4: 0.01 | H4: 0.01 | I4: 0.01 | J4: 0.01 | K4: 0.01 | L4: 0.01 | M4: 0.01 | N4: 0.01 | O4: 0.01 | P4: 0.01 | Q4: 0.01 | R4: 0.01 | S4: 0.01 | T4: 0.01 | U4: 0.01 | V4: 3 | W4: Carryover | AA4: =_xlfn.IFNA(MATCH(0,F4:U4,1),-23) + F$2 -1 -> 2004
A5: =+A4+1 -> 3 | B5: 18 | C5: Addyston | D5: =HLOOKUP(D$1,F$2:U$405,(A5+1),FALSE) -> 0.015 | E5: =HLOOKUP(D$1+1,F$2:U$405,(A5+1),FALSE) -> 0.015 | F5: 0.01 | G5: 0.01 | H5: 0.01 | I5: 0.01 | J5: 0.01 | K5: 0.01 | L5: 0.01 | M5: 0.01 | N5: 0.01 | O5: 0.015 | P5: 0.015 | Q5: 0.015 | R5: 0.015 | S5: 0.015 | T5: 0.015 | U5: 0.015 | V5: 5 | W5: Carryover | AA5: =_xlfn.IFNA(MATCH(0,F5:U5,1),-23) + F$2 -1 -> 1980
A6: =+A5+1 -> 4 | B6: 22 | C6: Adelphi | D6: =HLOOKUP(D$1,F$2:U$405,(A6+1),FALSE) -> 0.01 | E6: =HLOOKUP(D$1+1,F$2:U$405,(A6+1),FALSE) -> 0.01 | F6: 0 | G6: 0 | H6: 0 | I6: 0 | J6: 0 | K6: 0 | L6: 0.01 | M6: 0.01 | N6: 0.01 | O6: 0.01 | P6: 0.01 | Q6: 0.01 | R6: 0.01 | S6: 0.01 | T6: 0.01 | U6: 0.01 | V6: 5 | W6: Carryover | AA6: =_xlfn.IFNA(MATCH(0,F6:U6,1),-23) + F$2 -1 -> 2009
A7: =+A6+1 -> 5 | B7: 44 | C7: Amanda | D7: =HLOOKUP(D$1,F$2:U$405,(A7+1),FALSE) -> 0.01 | E7: =HLOOKUP(D$1+1,F$2:U$405,(A7+1),FALSE) -> 0.01 | F7: 0 | G7: 0 | H7: 0 | I7: 0 | J7: 0 | K7: 0 | L7: 0 | M7: 0 | N7: 0 | O7: 0 | P7: 0 | Q7: 0.0033 | R7: 0.01 | S7: 0.01 | T7: 0.01 | U7: 0.01 | V7: 5 | W7: Carryover | X7: Blended tax rate for 2015 | AA7: =_xlfn.IFNA(MATCH(0,F7:U7,1),-23) + F$2 -1 -> 2014
A8: =+A7+1 -> 6 | B8: 42 | C8: Amelia | D8: =HLOOKUP(D$1,F$2:U$405,(A8+1),FALSE) -> 0.005 | E8: =HLOOKUP(D$1+1,F$2:U$405,(A8+1),FALSE) -> 0.01 | F8: 0 | G8: 0 | H8: 0 | I8: 0 | J8: 0 | K8: 0 | L8: 0 | M8: 0 | N8: 0 | O8: 0 | P8: 0 | Q8: 0 | R8: 0 | S8: 0 | T8: 0.005 | U8: 0.01 | V8: 5 | W8: Carryover | X8: Blended tax rate for 2018 | AA8: =_xlfn.IFNA(MATCH(0,F8:U8,1),-23) + F$2 -1 -> 2017
